BEGIN:VCALENDAR
VERSION:2.0
PRODID:-//wp-events-plugin.com//7.2.3.1//EN
TZID:Europe/Berlin
X-WR-TIMEZONE:Europe/Berlin
BEGIN:VEVENT
UID:88@unterwegsinuelzen.de
DTSTART;TZID=Europe/Berlin:20260426T120000
DTEND;TZID=Europe/Berlin:20260426T170000
DTSTAMP:20260423T113414Z
URL:https://unterwegsinuelzen.de/events/verkaufsoffener-sonntag-uelzen/
SUMMARY:Verkaufsoffener Sonntag Uelzen
DESCRIPTION:Am Sonntag\, den 26. Oktober 2025\, verwandelt sich die Uelzen
 er Innenstadt von 12:00 bis 17:00 Uhr in eine farbenfrohe Erlebnismeile. U
 nter dem Motto „Kultur Herbst“ lädt der Verkaufsoffene Sonntag zu ein
 em entspannten Einkaufsbummel mit abwechslungsreichem Unterhaltungsprogram
 m für die ganze Familie ein.
CATEGORIES:Sonstiges
LOCATION:Uelzen Innenstadt\, Veerßerstr.\, Uelzen\, 29525\, Deutschland
X-APPLE-STRUCTURED-LOCATION;VALUE=URI;X-ADDRESS=Veerßerstr.\, Uelzen\, 295
 25\, Deutschland;X-APPLE-RADIUS=100;X-TITLE=Uelzen Innenstadt:geo:0,0
END:VEVENT
BEGIN:VTIMEZONE
TZID:Europe/Berlin
X-LIC-LOCATION:Europe/Berlin
BEGIN:DAYLIGHT
DTSTART:20260329T030000
TZOFFSETFROM:+0100
TZOFFSETTO:+0200
TZNAME:CEST
END:DAYLIGHT
END:VTIMEZONE
END:VCALENDAR