BEGIN:VCALENDAR
VERSION:2.0
PRODID:-//wp-events-plugin.com//7.2.3.1//EN
TZID:Europe/Berlin
X-WR-TIMEZONE:Europe/Berlin
BEGIN:VEVENT
UID:85@unterwegsinuelzen.de
DTSTART;TZID=Europe/Berlin:20260815T160000
DTEND;TZID=Europe/Berlin:20260815T230000
DTSTAMP:20260419T173607Z
URL:https://unterwegsinuelzen.de/events/schlagerparty-hoesseringen/
SUMMARY:Schlagerparty Hösseringen
DESCRIPTION:Party am Hardausee!
ATTACH;FMTTYPE=image/jpeg:https://i0.wp.com/unterwegsinuelzen.de/wp-conten
 t/uploads/2026/04/1000172553-e1776620650663.jpg?fit=1080%2C1435&ssl=1
CATEGORIES:Party
END:VEVENT
BEGIN:VTIMEZONE
TZID:Europe/Berlin
X-LIC-LOCATION:Europe/Berlin
BEGIN:DAYLIGHT
DTSTART:20260329T030000
TZOFFSETFROM:+0100
TZOFFSETTO:+0200
TZNAME:CEST
END:DAYLIGHT
END:VTIMEZONE
END:VCALENDAR