BEGIN:VCALENDAR
VERSION:2.0
PRODID:-//wp-events-plugin.com//7.2.3.1//EN
TZID:Europe/Berlin
X-WR-TIMEZONE:Europe/Berlin
BEGIN:VEVENT
UID:86@unterwegsinuelzen.de
DTSTART;TZID=Europe/Berlin;VALUE=DATE:20260523
DTEND;TZID=Europe/Berlin;VALUE=DATE:20260526
DTSTAMP:20260423T113224Z
URL:https://unterwegsinuelzen.de/events/pfingsten-am-hardausee/
SUMMARY:Pfingsten am Hardausee
DESCRIPTION:
ATTACH;FMTTYPE=image/jpeg:https://i0.wp.com/unterwegsinuelzen.de/wp-conten
 t/uploads/2026/04/1000172551-e1776943867215.jpg?fit=1080%2C1618&ssl=1
CATEGORIES:Party
LOCATION:Campingplatz Hardausee\, Campingplatz 1\, Suderburg / Hösseringen
 \, 29556\, Deutschland
X-APPLE-STRUCTURED-LOCATION;VALUE=URI;X-ADDRESS=Campingplatz 1\, Suderburg 
 / Hösseringen\, 29556\, Deutschland;X-APPLE-RADIUS=100;X-TITLE=Campingpla
 tz Hardausee:geo:0,0
END:VEVENT
BEGIN:VTIMEZONE
TZID:Europe/Berlin
X-LIC-LOCATION:Europe/Berlin
BEGIN:DAYLIGHT
DTSTART:20260329T030000
TZOFFSETFROM:+0100
TZOFFSETTO:+0200
TZNAME:CEST
END:DAYLIGHT
END:VTIMEZONE
END:VCALENDAR