BEGIN:VCALENDAR
VERSION:2.0
PRODID:-//wp-events-plugin.com//7.2.3.1//EN
TZID:Europe/Berlin
X-WR-TIMEZONE:Europe/Berlin
BEGIN:VEVENT
UID:91@unterwegsinuelzen.de
DTSTART;TZID=Europe/Berlin:20260425T000000
DTEND;TZID=Europe/Berlin:20260425T000000
DTSTAMP:20260423T113939Z
URL:https://unterwegsinuelzen.de/events/party-im-lounge-famous-2026-04-24-
 2026-04-25/
SUMMARY:Party im Lounge & Famous
DESCRIPTION:Das Lounge &amp\; Famous lädt euch herzlich zu einer Party ohn
 e Motto ein.\n\nFreut euch auf einen unvergesslichen Abend in entspannter 
 Atmosphäre mit guter Musik\, tollen Drinks und bester Stimmung. Ganz ohne
  Vorgaben steht einfach das gemeinsame Feiern\, Tanzen und Genießen im Mi
 ttelpunkt. Kommt vorbei und verbringt mit uns eine besondere Nacht voller 
 Spaß\, guter Laune und schöner Momente!
ATTACH;FMTTYPE=image/jpeg:https://i0.wp.com/unterwegsinuelzen.de/wp-conten
 t/uploads/2026/03/20260328_233011-scaled.jpg?fit=2560%2C1920&ssl=1
CATEGORIES:Party
LOCATION:Lounge & Famous\, Platenmeisterstraße 23\, Uelzen\, 29525 \, Deut
 schland
X-APPLE-STRUCTURED-LOCATION;VALUE=URI;X-ADDRESS=Platenmeisterstraße 23\, U
 elzen\, 29525 \, Deutschland;X-APPLE-RADIUS=100;X-TITLE=Lounge & Famous:ge
 o:0,0
END:VEVENT
BEGIN:VTIMEZONE
TZID:Europe/Berlin
X-LIC-LOCATION:Europe/Berlin
BEGIN:DAYLIGHT
DTSTART:20260329T030000
TZOFFSETFROM:+0100
TZOFFSETTO:+0200
TZNAME:CEST
END:DAYLIGHT
END:VTIMEZONE
END:VCALENDAR