BEGIN:VCALENDAR
VERSION:2.0
PRODID:-//wp-events-plugin.com//7.2.3.1//EN
TZID:Europe/Berlin
X-WR-TIMEZONE:Europe/Berlin
BEGIN:VEVENT
UID:75@unterwegsinuelzen.de
DTSTART;TZID=Europe/Berlin:20260501T190000
DTEND;TZID=Europe/Berlin:20260501T190000
DTSTAMP:20260416T092650Z
URL:https://unterwegsinuelzen.de/events/maifeuer-hardausee/
SUMMARY:Maifeuer Hardausee
DESCRIPTION:Der Campingplatz am Hardausee läd alle herzlich zum Maifeuer e
 in. Es werden natürlich leckere Getränke und Speisen am Ausgang vom Gins
 terweg Richtung Aussichtsturm angeboten
ATTACH;FMTTYPE=image/jpeg:https://i0.wp.com/unterwegsinuelzen.de/wp-conten
 t/uploads/2026/03/20250419_2114561548111915099629522.jpg?fit=1500%2C2000&s
 sl=1
CATEGORIES:Sonstiges
LOCATION:Campingplatz Hardausee\, Campingplatz 1\, Suderburg / Hösseringen
 \, 29556\, Deutschland
X-APPLE-STRUCTURED-LOCATION;VALUE=URI;X-ADDRESS=Campingplatz 1\, Suderburg 
 / Hösseringen\, 29556\, Deutschland;X-APPLE-RADIUS=100;X-TITLE=Campingpla
 tz Hardausee:geo:0,0
END:VEVENT
BEGIN:VTIMEZONE
TZID:Europe/Berlin
X-LIC-LOCATION:Europe/Berlin
BEGIN:DAYLIGHT
DTSTART:20260329T030000
TZOFFSETFROM:+0100
TZOFFSETTO:+0200
TZNAME:CEST
END:DAYLIGHT
END:VTIMEZONE
END:VCALENDAR