BEGIN:VCALENDAR
VERSION:2.0
PRODID:-//wp-events-plugin.com//7.2.3.1//EN
TZID:Europe/Berlin
X-WR-TIMEZONE:Europe/Berlin
BEGIN:VEVENT
UID:102@unterwegsinuelzen.de
DTSTART;TZID=Europe/Berlin:20260425T110000
DTEND;TZID=Europe/Berlin:20260425T130000
DTSTAMP:20260423T135317Z
URL:https://unterwegsinuelzen.de/events/kleiderbloerse-fuer-kinder/
SUMMARY:Kleiderblörse für Kinder
DESCRIPTION:Schulstraße 3 Böddenstedt
CATEGORIES:Flohmarkt / Börse
END:VEVENT
BEGIN:VTIMEZONE
TZID:Europe/Berlin
X-LIC-LOCATION:Europe/Berlin
BEGIN:DAYLIGHT
DTSTART:20260329T030000
TZOFFSETFROM:+0100
TZOFFSETTO:+0200
TZNAME:CEST
END:DAYLIGHT
END:VTIMEZONE
END:VCALENDAR