BEGIN:VCALENDAR
VERSION:2.0
PRODID:-//wp-events-plugin.com//7.2.3.1//EN
TZID:Europe/Berlin
X-WR-TIMEZONE:Europe/Berlin
BEGIN:VEVENT
UID:74@unterwegsinuelzen.de
DTSTART;TZID=Europe/Berlin:20260529T163000
DTEND;TZID=Europe/Berlin:20260529T190000
DTSTAMP:20260416T064737Z
URL:https://unterwegsinuelzen.de/events/kinderkleiderboerse/
SUMMARY:Kinderkleiderbörse
DESCRIPTION:Nummernvergabe ab dem 13.04.26 unter Boersemolzen@web.de.\n\nEs
  werden noch helfende Hände gesucht!
ATTACH;FMTTYPE=image/jpeg:https://i0.wp.com/unterwegsinuelzen.de/wp-conten
 t/uploads/2026/04/Bunte-Schaetze-auf-dem-Flohmarkt-1.png?fit=1536%2C1024&s
 sl=1
CATEGORIES:Flohmarkt / Börse
LOCATION:FABI Uelzen\, Ringstr. 6\, Uelzen\, 29525\, Deutschland
X-APPLE-STRUCTURED-LOCATION;VALUE=URI;X-ADDRESS=Ringstr. 6\, Uelzen\, 29525
 \, Deutschland;X-APPLE-RADIUS=100;X-TITLE=FABI Uelzen:geo:0,0
END:VEVENT
BEGIN:VTIMEZONE
TZID:Europe/Berlin
X-LIC-LOCATION:Europe/Berlin
BEGIN:DAYLIGHT
DTSTART:20260329T030000
TZOFFSETFROM:+0100
TZOFFSETTO:+0200
TZNAME:CEST
END:DAYLIGHT
END:VTIMEZONE
END:VCALENDAR