BEGIN:VCALENDAR
VERSION:2.0
PRODID:-//wp-events-plugin.com//7.2.3.1//EN
TZID:Europe/Berlin
X-WR-TIMEZONE:Europe/Berlin
BEGIN:VEVENT
UID:36@unterwegsinuelzen.de
DTSTART;TZID=Europe/Berlin:20260426T190000
DTEND;TZID=Europe/Berlin:20260426T220000
DTSTAMP:20260423T112738Z
URL:https://unterwegsinuelzen.de/events/hundeerziehung-mit-holger-schueler
 -in-uelzen/
SUMMARY:Hundeerziehung mit Holger Schüler in Uelzen
DESCRIPTION:Veranstaltung: https://facebook.com/events/s/hundeerziehung-mit
 -holger-schu/1366272497794377/\n\nTickethotline: 0761-88849999\n\nDer Best
 sellerautor geht wieder auf Tournee!\nHolger Schüler und sein treuer Begl
 eiter Dakota begeistern mit neuer Live-Show!\n\nHundeerziehung kann richti
 g Spaß machen! Manchmal ist es die Freude der Herrchen und Frauchen über
  die erreichten Ziele und manchmal die Schadenfreude der Anderen\, wenn es
  eben nicht so richtig klappt. Egal wie\, es gibt immer was zu lachen!\n\n
 Lehrreich &amp\; witzig!\n\nMit vielen Geschichten aus seinem Alltag als H
 undebesitzer und als Experte für Hundeerziehung\, erklärt Holger Schüle
 r auf seine ganz eigene Art grundlegendes zum Thema Hund.\n\nTickethotline
 : 01806-570070*\n* Servicenummern-Info: 0180-1: 3\,9 Ct/Min · 0180-2: 6\,
 0 Ct/Anruf · 0180-3: 9\,0 Ct/Min · 0180-4: 20 Ct/Anruf · 0180-5: 14 Ct/
 Min · 0180-6: 20 Ct/Anruf · Kosten aus dem Festnetz der Deutschen Teleko
 m · Kosten immer je angefangenem Takt · Bei Anrufen aus einem Fremd-/Mob
 ilnetz können höhere Kosten entstehen (0180-6: max. 60 Ct/Min.\, andere 
 0180er Dienste: max. 42 Ct/Min) · 0700: Mo.-Fr. 9 bis 18 Uhr\, 6\,2 Ct/30
  Sekunden\, restliche Zeit 6\,2 Ct/Minute.\n\n#hundeerziehung #holgerschü
 ler #hund #erziehung #6pfoten #Rudolf-Wild-Halle #Eppelheim
CATEGORIES:Sonstiges
LOCATION:Theater an der Ilmenau\, Greyerstraße 3\, Uelzen\, 29525\, Deutsc
 hland
X-APPLE-STRUCTURED-LOCATION;VALUE=URI;X-ADDRESS=Greyerstraße 3\, Uelzen\, 
 29525\, Deutschland;X-APPLE-RADIUS=100;X-TITLE=Theater an der Ilmenau:geo:
 0,0
END:VEVENT
BEGIN:VTIMEZONE
TZID:Europe/Berlin
X-LIC-LOCATION:Europe/Berlin
BEGIN:DAYLIGHT
DTSTART:20260329T030000
TZOFFSETFROM:+0100
TZOFFSETTO:+0200
TZNAME:CEST
END:DAYLIGHT
END:VTIMEZONE
END:VCALENDAR