BEGIN:VCALENDAR
VERSION:2.0
PRODID:-//wp-events-plugin.com//7.2.3.1//EN
TZID:Europe/Berlin
X-WR-TIMEZONE:Europe/Berlin
BEGIN:VEVENT
UID:87@unterwegsinuelzen.de
DTSTART;TZID=Europe/Berlin:20260501T233000
DTEND;TZID=Europe/Berlin:20260501T233000
DTSTAMP:20260419T174637Z
URL:https://unterwegsinuelzen.de/events/goa-event-die-nacht-wird-eskaliere
 n/
SUMMARY:GOA EVENT – DIE NACHT WIRD ESKALIEREN
DESCRIPTION:🌌 GOA EVENT – DIE NACHT WIRD ESKALIEREN 🌌\n\n📅 01.05
 .2026\n\nRonny Regler LIVE ON STAGE 🎧\nDer Bass wird knallen.\nDie Vibe
 s werden übernehmen.\nUnd die Tanzfläche?\nDie wird beben von euren Move
 s. 💥\n\nGoa Sound. Psychedelic Energy.\nKomplette Deko – wir verwande
 ln die Location in eine andere Welt. ✨\n\n🕚 Start: 23:30 Uhr\n📍 Ue
 lzen\n🎟️ VIP Plätze buchbar\n\nDas ist nicht einfach nur eine Party
 …\nDas ist DAS Goa Event der Stadt.\n\nAlso komm nicht alleine – bring
  deine Crew mit\nund zeig\, wie hart ihr die Nacht zerlegt. 🚀\n\nSei da
 bei. Oder hör später nur davon.\n\n🔱 Om Vibes Only 🔱
ATTACH;FMTTYPE=image/jpeg:https://i0.wp.com/unterwegsinuelzen.de/wp-conten
 t/uploads/2026/04/Goa-lounge-Famous.jpg?fit=1024%2C1536&ssl=1
CATEGORIES:Party
LOCATION:Lounge & Famous\, Platenmeisterstraße 23\, Uelzen\, 29525 \, Deut
 schland
X-APPLE-STRUCTURED-LOCATION;VALUE=URI;X-ADDRESS=Platenmeisterstraße 23\, U
 elzen\, 29525 \, Deutschland;X-APPLE-RADIUS=100;X-TITLE=Lounge & Famous:ge
 o:0,0
END:VEVENT
BEGIN:VTIMEZONE
TZID:Europe/Berlin
X-LIC-LOCATION:Europe/Berlin
BEGIN:DAYLIGHT
DTSTART:20260329T030000
TZOFFSETFROM:+0100
TZOFFSETTO:+0200
TZNAME:CEST
END:DAYLIGHT
END:VTIMEZONE
END:VCALENDAR