BEGIN:VCALENDAR
VERSION:2.0
PRODID:-//wp-events-plugin.com//7.2.3.1//EN
TZID:Europe/Berlin
X-WR-TIMEZONE:Europe/Berlin
BEGIN:VEVENT
UID:103@unterwegsinuelzen.de
DTSTART;TZID=Europe/Berlin:20260425T000000
DTEND;TZID=Europe/Berlin:20260425T235900
DTSTAMP:20260424T105914Z
URL:https://unterwegsinuelzen.de/events/flohmarkt-edeka-duellmann/
SUMMARY:Flohmarkt EDEKA Düllmann
DESCRIPTION:Flohmarkt „Rund ums Kind und die Frau“\n\nUhrzeit ist unbek
 annt!
ATTACH;FMTTYPE=image/jpeg:https://unterwegsinuelzen.de/wp-content/uploads/
 2026/04/Bunte-Schaetze-auf-dem-Flohmarkt-1.png
CATEGORIES:Flohmarkt / Börse
LOCATION:EDEKA Düllmann\,  St.-Viti-Straße 13\, Uelzen\, 29525\, Deutschl
 and
X-APPLE-STRUCTURED-LOCATION;VALUE=URI;X-ADDRESS= St.-Viti-Straße 13\, Uelz
 en\, 29525\, Deutschland;X-APPLE-RADIUS=100;X-TITLE=EDEKA Düllmann:geo:0,
 0
END:VEVENT
BEGIN:VTIMEZONE
TZID:Europe/Berlin
X-LIC-LOCATION:Europe/Berlin
BEGIN:DAYLIGHT
DTSTART:20260329T030000
TZOFFSETFROM:+0100
TZOFFSETTO:+0200
TZNAME:CEST
END:DAYLIGHT
END:VTIMEZONE
END:VCALENDAR