BEGIN:VCALENDAR
VERSION:2.0
PRODID:-//wp-events-plugin.com//7.2.3.1//EN
TZID:Europe/Berlin
X-WR-TIMEZONE:Europe/Berlin
BEGIN:VEVENT
UID:80@unterwegsinuelzen.de
DTSTART;TZID=Europe/Berlin;VALUE=DATE:20260430
DTEND;TZID=Europe/Berlin;VALUE=DATE:20260504
DTSTAMP:20260417T135405Z
URL:https://unterwegsinuelzen.de/events/burgfest-bad-bodenteich/
SUMMARY:Burgfest Bad Bodenteich
DESCRIPTION:www.fogelvrei.de
ATTACH;FMTTYPE=image/jpeg:https://i0.wp.com/unterwegsinuelzen.de/wp-conten
 t/uploads/2026/04/20250501_150043-scaled.jpg?fit=2560%2C1920&ssl=1
CATEGORIES:Sonstiges
END:VEVENT
BEGIN:VTIMEZONE
TZID:Europe/Berlin
X-LIC-LOCATION:Europe/Berlin
BEGIN:DAYLIGHT
DTSTART:20260329T030000
TZOFFSETFROM:+0100
TZOFFSETTO:+0200
TZNAME:CEST
END:DAYLIGHT
END:VTIMEZONE
END:VCALENDAR